BEGIN:VCALENDAR
VERSION:2.0
PRODID:-//Palos Verdes Peninsula CERT - ECPv6.15.18//NONSGML v1.0//EN
CALSCALE:GREGORIAN
METHOD:PUBLISH
X-WR-CALNAME:Palos Verdes Peninsula CERT
X-ORIGINAL-URL:http://www.pvpcert.org
X-WR-CALDESC:Events for Palos Verdes Peninsula CERT
REFRESH-INTERVAL;VALUE=DURATION:PT1H
X-Robots-Tag:noindex
X-PUBLISHED-TTL:PT1H
BEGIN:VTIMEZONE
TZID:UTC
BEGIN:STANDARD
TZOFFSETFROM:+0000
TZOFFSETTO:+0000
TZNAME:UTC
DTSTART:20250101T000000
END:STANDARD
END:VTIMEZONE
BEGIN:VEVENT
DTSTART;TZID=UTC:20260613T093000
DTEND;TZID=UTC:20260613T170000
DTSTAMP:20260425T163507
CREATED:20260331T055711Z
LAST-MODIFIED:20260331T060304Z
UID:248-1781343000-1781370000@www.pvpcert.org
SUMMARY:Amateur (Ham) Radio Class\, Day 1\, Technician (Entry Level) and General (2nd Level)Amateur Radio Courses
DESCRIPTION:FCC “Technician” (entry) Level Class \n\n\n\nEach course is two sessions\, on June 13 and June 20 \n\n\n\nTechnician 9:30 am to 1:15 pm both Saturdays (Bring your lunch). General 1:30 pm to 5:00 pm. \n\n\n\nThe FCC tests will be 10 am to noon on June 27\, 2026 \n\n\n\nWhether for emergency communication\, communicating around the world\, or learning a bit about electronics\, there’s nothing else like amateur radio (also known as “ham radio”). Amateur radio operators have long provided communications “when all else fails” during disasters. With a short course they can join over 710\,000 men\, women\, and children in the United States from all walks of life who are license to operate ham radios.  At the start of the Technician license course\, a member of the Palos Verdes Amateur Radio Club will give a 30-minute presentation on what ham radio is all about and what the many benefits of being a “ham” are. \n\n\n\nPlease confirm your attendance to Walt Ordway\, K1DFO\, waltfordway@juno.com. \n\n\n\nWalt charges no fee for the classes. The FCC test fee is $15. After passing the Technician test\, the FCC will send you an email for paying the $35 license fee\, and then they will post your call sign. \n\n\n\nOptional materials: (sold at cost) Gordon West books with all the test questions: $30 for the Technician and $33 for the General. Paper copy of Walt’s Power Point charts\, $29 for the Technician and $26 for the General. \n\n\n\nFor classes sponsored by the Palos Verdes Amateur Radio Club\, students through grade 12 who pass their examination at a PVARC VE test session will\, upon application to the club\, be eligible for reimbursement up to a maximum of $85 to cover the cost of materials and the examination fee. \n\n\n\nEveryone who obtains their first ham radio license through a PVARC VE test session\, regardless of age\, will receive a free membership in the Palos Verdes Amateur Radio Club for the remainder of the current calendar year. \n\n\n\nFor courses sponsored by the PVARC\, students through grade 12 who pass their examination at a PVARC test session will\, upon application to the Club\, be eligible for reimbursement for up to a maximum of $85 to cover their cost of class materials and the examination fee.
URL:http://www.pvpcert.org/event/amateur-radio-coursesamateur-ham-radio-class-day-1-technician-entry-level-and-general-2nd-levelamateur-radio-courses/
LOCATION:Fred Hesse Community Park\, 29301 Hawthorne Blvd\, Rancho Palos Verdes\, CA 90275
END:VEVENT
BEGIN:VEVENT
DTSTART;TZID=UTC:20260620T093000
DTEND;TZID=UTC:20260620T170000
DTSTAMP:20260425T163507
CREATED:20260331T055917Z
LAST-MODIFIED:20260331T055944Z
UID:251-1781947800-1781974800@www.pvpcert.org
SUMMARY:Amateur (Ham) Radio Class\, Day 2\, Technician (Entry Level) and General (2nd Level)Amateur Radio Courses
DESCRIPTION:FCC “Technician” (entry) Level Class \n\n\n\nEach course is two sessions\, on June 13 and June 20 \n\n\n\nTechnician 9:30 am to 1:15 pm both Saturdays (Bring your lunch). General 1:30 pm to 5:00 pm. \n\n\n\nThe FCC tests will be 10 am to noon on June 27\, 2026 \n\n\n\nWhether for emergency communication\, communicating around the world\, or learning a bit about electronics\, there’s nothing else like amateur radio (also known as “ham radio”). Amateur radio operators have long provided communications “when all else fails” during disasters. With a short course they can join over 710\,000 men\, women\, and children in the United States from all walks of life who are license to operate ham radios.  At the start of the Technician license course\, a member of the Palos Verdes Amateur Radio Club will give a 30-minute presentation on what ham radio is all about and what the many benefits of being a “ham” are. \n\n\n\nPlease confirm your attendance to Walt Ordway\, K1DFO\, waltfordway@juno.com. \n\n\n\nWalt charges no fee for the classes. The FCC test fee is $15. After passing the Technician test\, the FCC will send you an email for paying the $35 license fee\, and then they will post your call sign. \n\n\n\nOptional materials: (sold at cost) Gordon West books with all the test questions: $30 for the Technician and $33 for the General. Paper copy of Walt’s Power Point charts\, $29 for the Technician and $26 for the General. \n\n\n\nFor classes sponsored by the Palos Verdes Amateur Radio Club\, students through grade 12 who pass their examination at a PVARC VE test session will\, upon application to the club\, be eligible for reimbursement up to a maximum of $85 to cover the cost of materials and the examination fee. \n\n\n\nEveryone who obtains their first ham radio license through a PVARC VE test session\, regardless of age\, will receive a free membership in the Palos Verdes Amateur Radio Club for the remainder of the current calendar year. \n\n\n\nFor courses sponsored by the PVARC\, students through grade 12 who pass their examination at a PVARC test session will\, upon application to the Club\, be eligible for reimbursement for up to a maximum of $85 to cover their cost of class materials and the examination fee.
URL:http://www.pvpcert.org/event/amateur-radio-coursesamateur-ham-radio-class-day-2-technician-entry-level-and-general-2nd-levelamateur-radio-courses/
LOCATION:Fred Hesse Community Park\, 29301 Hawthorne Blvd\, Rancho Palos Verdes\, CA 90275
END:VEVENT
END:VCALENDAR