BEGIN:VCALENDAR
VERSION:2.0
PRODID:-//Palos Verdes Peninsula CERT - ECPv6.15.18//NONSGML v1.0//EN
CALSCALE:GREGORIAN
METHOD:PUBLISH
X-WR-CALNAME:Palos Verdes Peninsula CERT
X-ORIGINAL-URL:http://www.pvpcert.org
X-WR-CALDESC:Events for Palos Verdes Peninsula CERT
REFRESH-INTERVAL;VALUE=DURATION:PT1H
X-Robots-Tag:noindex
X-PUBLISHED-TTL:PT1H
BEGIN:VTIMEZONE
TZID:UTC
BEGIN:STANDARD
TZOFFSETFROM:+0000
TZOFFSETTO:+0000
TZNAME:UTC
DTSTART:20230101T000000
END:STANDARD
END:VTIMEZONE
BEGIN:VTIMEZONE
TZID:Asia/Shanghai
BEGIN:STANDARD
TZOFFSETFROM:+0800
TZOFFSETTO:+0800
TZNAME:CST
DTSTART:20200101T000000
END:STANDARD
END:VTIMEZONE
BEGIN:VEVENT
DTSTART;TZID=UTC:20241116T113000
DTEND;TZID=UTC:20241116T120000
DTSTAMP:20260426T024913
CREATED:20240720T064207Z
LAST-MODIFIED:20240720T064208Z
UID:203-1731756600-1731758400@www.pvpcert.org
SUMMARY:FCC Amateur (Ham) Radio License Exams
DESCRIPTION:The FCC test fee is $15. After passing the Technician test\, the FCC will send you an email for paying the $35 license fee\, and then they will post your call sign.
URL:http://www.pvpcert.org/event/fcc-amateur-ham-radio-license-exams-2/
LOCATION:Fred Hesse Community Park\, 29301 Hawthorne Blvd\, Rancho Palos Verdes\, CA 90275
END:VEVENT
BEGIN:VEVENT
DTSTART;TZID=UTC:20241109T093000
DTEND;TZID=UTC:20241109T170000
DTSTAMP:20260426T024913
CREATED:20240720T063910Z
LAST-MODIFIED:20240720T063911Z
UID:201-1731144600-1731171600@www.pvpcert.org
SUMMARY:Amateur (Ham) Radio Class\, Day 2\, Technician (Entry Level) and General (2nd Level)
DESCRIPTION:Each course is two sessions\, on November 2 and November 9 \n\n\n\nTechnician 9:30 am to 1:15 pm both Saturdays (Bring your lunch). General 1:30 pm to 5:00 pm. \n\n\n\nThe FCC tests will be 10 am to noon on Saturday\, Nov 16\, 2024 \n\n\n\nPlease confirm your attendance to Walt Ordway\, K1DFO\, waltfordway@juno.com. \n\n\n\nWalt charges no fee for the classes. The FCC test fee is $15. After passing the Technician test\, the FCC will send you an email for paying the $35 license fee\, and then they will post your call sign. \n\n\n\nOptional materials: (sold at cost) Gordon West books with all the test questions: $30 for the Technician and $33 for the General. Paper copy of Walt’s Power Point charts\, $29 for the Technician and $26 for the General. \n\n\n\nFor classes sponsored by the Palos Verdes Amateur Radio Club\, students through grade 12 who pass their examination at a PVARC VE test session will\, upon application to the club\, be eligible for reimbursement up to a maximum of $85 to cover the cost of materials and the examination fee. \n\n\n\nEveryone who obtains their first ham radio license through a PVARC VE test session\, regardless of age\, will receive a free membership in the Palos Verdes Amateur Radio Club for the remainder of the current calendar year.
URL:http://www.pvpcert.org/event/amateur-ham-radio-class-day-2-technician-entry-level-and-general-2nd-level-2/
LOCATION:Fred Hesse Community Park\, 29301 Hawthorne Blvd\, Rancho Palos Verdes\, CA 90275
END:VEVENT
BEGIN:VEVENT
DTSTART;TZID=UTC:20241109T090000
DTEND;TZID=UTC:20241109T170000
DTSTAMP:20260426T024913
CREATED:20241022T050432Z
LAST-MODIFIED:20241022T050432Z
UID:244-1731142800-1731171600@www.pvpcert.org
SUMMARY:Hawthorne CERT Class Day 3
DESCRIPTION:OUR LOS ANGELES COUNTY FIRE DEPARTMENT IS PROVIDING ‘C.E.R.T.’ TRAINING CLASSES NEAR US IN HAWTHORNE BEGINNING OCTOBER 26th. PLEASE CONSIDER SIGNING UP FOR ONE OF THESE EXTREMELY IMPORTANT\, INFORMATIVE\, AND REAL-WORLD EMERGENCY TRAINING CLASSES. PLEASE SEE THE ANNOUNCEMENTS BELOW FROM THE LOS ANGELES COUNTY FIRE DEPARTMENT\, AND SIGN UP USING THIS >>>LINK<<<.
URL:http://www.pvpcert.org/event/hawthorne-cert-class-day-3/
END:VEVENT
BEGIN:VEVENT
DTSTART;TZID=UTC:20241102T093000
DTEND;TZID=UTC:20241102T170000
DTSTAMP:20260426T024913
CREATED:20240720T062438Z
LAST-MODIFIED:20240720T062440Z
UID:193-1730539800-1730566800@www.pvpcert.org
SUMMARY:Amateur (Ham) Radio Class\, Day 1\, Technician (Entry Level) and General (2nd Level)
DESCRIPTION:FCC “Technician” (entry) Level Class \n\n\n\nEach course is two sessions\, on November 2 and November 9 \n\n\n\nTechnician 9:30 am to 1:15 pm both Saturdays (Bring your lunch). General 1:30 pm to 5:00 pm. \n\n\n\nThe FCC tests will be 10 am to noon on Saturday\, Nov 16\, 2024 \n\n\n\nPlease confirm your attendance to Walt Ordway\, K1DFO\, waltfordway@juno.com. \n\n\n\nWalt charges no fee for the classes. The FCC test fee is $15. After passing the Technician test\, the FCC will send you an email for paying the $35 license fee\, and then they will post your call sign. \n\n\n\nOptional materials: (sold at cost) Gordon West books with all the test questions: $30 for the Technician and $33 for the General. Paper copy of Walt’s Power Point charts\, $29 for the Technician and $26 for the General. \n\n\n\nFor classes sponsored by the Palos Verdes Amateur Radio Club\, students through grade 12 who pass their examination at a PVARC VE test session will\, upon application to the club\, be eligible for reimbursement up to a maximum of $85 to cover the cost of materials and the examination fee. \n\n\n\nEveryone who obtains their first ham radio license through a PVARC VE test session\, regardless of age\, will receive a free membership in the Palos Verdes Amateur Radio Club for the remainder of the current calendar year.
URL:http://www.pvpcert.org/event/amateur-ham-radio-class-day-1-technician-entry-level-and-general-2nd-level-2/
LOCATION:Fred Hesse Community Park\, 29301 Hawthorne Blvd\, Rancho Palos Verdes\, CA 90275
END:VEVENT
BEGIN:VEVENT
DTSTART;TZID=UTC:20241102T090000
DTEND;TZID=UTC:20241102T170000
DTSTAMP:20260426T024913
CREATED:20241022T050340Z
LAST-MODIFIED:20241022T050340Z
UID:242-1730538000-1730566800@www.pvpcert.org
SUMMARY:Hawthorne CERT Class Day 2
DESCRIPTION:OUR LOS ANGELES COUNTY FIRE DEPARTMENT IS PROVIDING ‘C.E.R.T.’ TRAINING CLASSES NEAR US IN HAWTHORNE BEGINNING OCTOBER 26th. PLEASE CONSIDER SIGNING UP FOR ONE OF THESE EXTREMELY IMPORTANT\, INFORMATIVE\, AND REAL-WORLD EMERGENCY TRAINING CLASSES. PLEASE SEE THE ANNOUNCEMENTS BELOW FROM THE LOS ANGELES COUNTY FIRE DEPARTMENT\, AND SIGN UP USING THIS >>>LINK<<<.
URL:http://www.pvpcert.org/event/hawthorne-cert-class-day-2/
END:VEVENT
BEGIN:VEVENT
DTSTART;TZID=UTC:20241027T100000
DTEND;TZID=UTC:20241027T130000
DTSTAMP:20260426T024913
CREATED:20241022T043849Z
LAST-MODIFIED:20241022T050007Z
UID:226-1730023200-1730034000@www.pvpcert.org
SUMMARY:Prepared Peninsula Expo
DESCRIPTION:
URL:http://www.pvpcert.org/event/226/
LOCATION:Peninsula High School\, 27118 Silver Spur Rd\, Rolling Hills Estates\, California\, 90275
END:VEVENT
BEGIN:VEVENT
DTSTART;TZID=UTC:20241026T090000
DTEND;TZID=UTC:20241026T170000
DTSTAMP:20260426T024913
CREATED:20241022T045748Z
LAST-MODIFIED:20241022T050457Z
UID:234-1729933200-1729962000@www.pvpcert.org
SUMMARY:Hawthorne CERT Class Day 1
DESCRIPTION:OUR LOS ANGELES COUNTY FIRE DEPARTMENT IS PROVIDING ‘C.E.R.T.’ TRAINING CLASSES NEAR US IN HAWTHORNE BEGINNING OCTOBER 26th. PLEASE CONSIDER SIGNING UP FOR ONE OF THESE EXTREMELY IMPORTANT\, INFORMATIVE\, AND REAL-WORLD EMERGENCY TRAINING CLASSES. PLEASE SEE THE ANNOUNCEMENTS BELOW FROM THE LOS ANGELES COUNTY FIRE DEPARTMENT\, AND SIGN UP USING THIS >>>LINK<<<.
URL:http://www.pvpcert.org/event/cert-basic-class-day-1/
LOCATION:Hawthorne Memorial Center\, 3901 West El Segundo Blvd.\, Hawthorne\, California\, 90250
END:VEVENT
BEGIN:VEVENT
DTSTART;TZID=UTC:20240525T100000
DTEND;TZID=UTC:20240525T120000
DTSTAMP:20260426T024913
CREATED:20240329T052817Z
LAST-MODIFIED:20240329T052820Z
UID:165-1716631200-1716638400@www.pvpcert.org
SUMMARY:FCC Amateur (Ham) Radio License Exams
DESCRIPTION:The FCC test fee is $15. After passing the Technician test\, the FCC will send you an email for paying the $35 license fee\, and then they will post your call sign.
URL:http://www.pvpcert.org/event/fcc-amateur-ham-radio-license-exams/
LOCATION:Fred Hesse Community Park\, 29301 Hawthorne Blvd\, Rancho Palos Verdes\, CA 90275
END:VEVENT
BEGIN:VEVENT
DTSTART;TZID=UTC:20240523T190000
DTEND;TZID=UTC:20240523T210000
DTSTAMP:20260426T024913
CREATED:20240523T040345Z
LAST-MODIFIED:20240523T040347Z
UID:176-1716490800-1716498000@www.pvpcert.org
SUMMARY:PVP CERT Meeting
DESCRIPTION:May 23rd Keynote Speaker\, Acting Assistant Fire Chief\, Brian Kane\n\n\n\n\n\n\n\n\n\n\n\n\n\n\n\nOUR UPCOMING MEETING DATE:Thursday\, May 23rd\, 2024\, at 7pm (Our PVP-CERT community meetings are on the 4th Thursday of every odd month)LOCATION: RPV’s Fred Hesse Community ParkCAN’T ATTEND IN PERSON? Join us via Zoom Live Streaming by clicking on this link >>> CLICK ON THIS LINK TO JOIN OUR MEETING <<<https://us02web.zoom.us/j/89454501227?pwd=S25uMERrcTlBVXBkNFdva0pINFdqZz09\n\n\n\n PLEASE BRING YOUR FRIENDS AND NEIGHBORS TO JOIN US FOR THIS VERY IMPORTANT AND INFORMATIVE PRESENTATION.
URL:http://www.pvpcert.org/event/pvp-cert-meeting-3/
LOCATION:Fred Hesse Community Park\, 29301 Hawthorne Blvd\, Rancho Palos Verdes\, CA 90275
END:VEVENT
BEGIN:VEVENT
DTSTART;TZID=UTC:20240518T090000
DTEND;TZID=UTC:20240518T170000
DTSTAMP:20260426T024913
CREATED:20240329T052129Z
LAST-MODIFIED:20240329T052319Z
UID:163-1716022800-1716051600@www.pvpcert.org
SUMMARY:Amateur (Ham) Radio Class\, Day 2\, Technician (Entry Level) and General (2nd Level)
DESCRIPTION:FCC “Technician” (entry) Level Class \n\n\n\nEach course is two sessions\, on May 11 and May 18 \n\n\n\nTechnician 9:30 am to 1:15 pm both Saturdays (Bring your lunch). General 1:30 pm to 5:00 pm. \n\n\n\nThe FCC tests will be 10 am to noon on Saturday\, May 25\, 2024 \n\n\n\nPlease confirm your attendance to Walt Ordway\, K1DFO\, waltfordway@juno.com. \n\n\n\nWalt charges no fee for the classes. The FCC test fee is $15. After passing the Technician test\, the FCC will send you an email for paying the $35 license fee\, and then they will post your call sign. \n\n\n\nOptional materials: (sold at cost) Gordon West books with all the test questions: $30 for the Technician and $33 for the General. Paper copy of Walt’s Power Point charts\, $29 for the Technician and $26 for the General. \n\n\n\nFor classes sponsored by the Palos Verdes Amateur Radio Club\, students through grade 12 who pass their examination at a PVARC VE test session will\, upon application to the club\, be eligible for reimbursement up to a maximum of $85 to cover the cost of materials and the examination fee. \n\n\n\nEveryone who obtains their first ham radio license through a PVARC VE test session\, regardless of age\, will receive a free membership in the Palos Verdes Amateur Radio Club for the remainder of the current calendar year.
URL:http://www.pvpcert.org/event/amateur-ham-radio-class-day-2-technician-entry-level-and-general-2nd-level/
LOCATION:Fred Hesse Community Park\, 29301 Hawthorne Blvd\, Rancho Palos Verdes\, CA 90275
END:VEVENT
BEGIN:VEVENT
DTSTART;TZID=UTC:20240511T093000
DTEND;TZID=UTC:20240511T170000
DTSTAMP:20260426T024913
CREATED:20240329T051302Z
LAST-MODIFIED:20240329T051513Z
UID:159-1715419800-1715446800@www.pvpcert.org
SUMMARY:Amateur (Ham) Radio Class\, Day 1\, Technician (Entry Level) and General (2nd Level)
DESCRIPTION:FCC “Technician” (entry) Level Class \n\n\n\nEach course is two sessions\, on May 11 and May 18 \n\n\n\nTechnician 9:30 am to 1:15 pm both Saturdays (Bring your lunch). General 1:30 pm to 5:00 pm. \n\n\n\nThe FCC tests will be 10 am to noon on Saturday\, May 25\, 2024 \n\n\n\nPlease confirm your attendance to Walt Ordway\, K1DFO\, waltfordway@juno.com. \n\n\n\nWalt charges no fee for the classes. The FCC test fee is $15. After passing the Technician test\, the FCC will send you an email for paying the $35 license fee\, and then they will post your call sign. \n\n\n\nOptional materials: (sold at cost) Gordon West books with all the test questions: $30 for the Technician and $33 for the General. Paper copy of Walt’s Power Point charts\, $29 for the Technician and $26 for the General. \n\n\n\nFor classes sponsored by the Palos Verdes Amateur Radio Club\, students through grade 12 who pass their examination at a PVARC VE test session will\, upon application to the club\, be eligible for reimbursement up to a maximum of $85 to cover the cost of materials and the examination fee. \n\n\n\nEveryone who obtains their first ham radio license through a PVARC VE test session\, regardless of age\, will receive a free membership in the Palos Verdes Amateur Radio Club for the remainder of the current calendar year.
URL:http://www.pvpcert.org/event/amateur-ham-radio-class-day-1-technician-entry-level-and-general-2nd-level/
END:VEVENT
BEGIN:VEVENT
DTSTART;TZID=UTC:20240505T080000
DTEND;TZID=UTC:20240505T170000
DTSTAMP:20260426T024913
CREATED:20240329T012739Z
LAST-MODIFIED:20240329T012740Z
UID:157-1714896000-1714928400@www.pvpcert.org
SUMMARY:Community Emergency Response Team Class 3
DESCRIPTION:
URL:http://www.pvpcert.org/event/community-emergency-response-team-class-3/
LOCATION:Los Angeles County Fire Station 171\, 141 West Regent St.\, Inglewood\, CA\, 90301
END:VEVENT
BEGIN:VEVENT
DTSTART;TZID=UTC:20240504T080000
DTEND;TZID=UTC:20240504T170000
DTSTAMP:20260426T024913
CREATED:20240329T012503Z
LAST-MODIFIED:20240329T012530Z
UID:151-1714809600-1714842000@www.pvpcert.org
SUMMARY:Community Emergency Response Team Class 2
DESCRIPTION:
URL:http://www.pvpcert.org/event/community-emergency-response-team-class-2/
LOCATION:Los Angeles County Fire Station 171\, 141 West Regent St.\, Inglewood\, CA\, 90301
END:VEVENT
BEGIN:VEVENT
DTSTART;TZID=UTC:20240503T170000
DTEND;TZID=UTC:20240503T210000
DTSTAMP:20260426T024913
CREATED:20240329T012156Z
LAST-MODIFIED:20240329T012159Z
UID:147-1714755600-1714770000@www.pvpcert.org
SUMMARY:Community Emergency Response Team Class 1
DESCRIPTION:
URL:http://www.pvpcert.org/event/community-emergency-response-team-class-1/
LOCATION:County of Los Angeles Fire Department 171\, 141 West Regent St.\, Inglewood\, CA 90301
END:VEVENT
BEGIN:VEVENT
DTSTART;TZID=UTC:20240328T070000
DTEND;TZID=UTC:20240328T203000
DTSTAMP:20260426T024913
CREATED:20240329T011421Z
LAST-MODIFIED:20240329T011424Z
UID:143-1711609200-1711657800@www.pvpcert.org
SUMMARY:PVP CERT Meeting
DESCRIPTION:Portugese Bend Land Movement Information Session presented byRPV’s City Manager\, Ara Mihranian
URL:http://www.pvpcert.org/event/pvp-cert-meeting-2/
LOCATION:Fred Hesse Community Park\, 29301 Hawthorne Blvd\, Rancho Palos Verdes\, CA 90275
END:VEVENT
BEGIN:VEVENT
DTSTART;TZID=Asia/Shanghai:20210128T190000
DTEND;TZID=Asia/Shanghai:20210128T210000
DTSTAMP:20260426T024913
CREATED:20201207T042224Z
LAST-MODIFIED:20201207T043133Z
UID:80-1611860400-1611867600@www.pvpcert.org
SUMMARY:PVP CERT Meeting
DESCRIPTION:PVP CERT meets the 4th Thursday of odd numbered months at Hess Park. No topic at this time
URL:http://www.pvpcert.org/event/pvp-cert-meeting/
LOCATION:Hesse Park\, Rancho Palos Verdes\, 29301 Hawthorne Blvd\, Rancho Palos Verdes\, California\, 90725
END:VEVENT
END:VCALENDAR